BEGIN:VCALENDAR
VERSION:2.0
PRODID:-//ChamberMaster//Event Calendar 2.0//EN
METHOD:PUBLISH
X-PUBLISHED-TTL:P1H
REFRESH-INTERVAL:P1H
CALSCALE:GREGORIAN
BEGIN:VTIMEZONE
TZID:America/Chicago
BEGIN:DAYLIGHT
RRULE:FREQ=YEARLY;BYMONTH=3;BYDAY=2SU
DTSTART:20070101T000000
TZOFFSETFROM:-0600
TZOFFSETTO:-0500
TZNAME:Central Daylight Time
END:DAYLIGHT
BEGIN:STANDARD
RRULE:FREQ=YEARLY;BYMONTH=11;BYDAY=1SU
DTSTART:20070101T000000
TZOFFSETFROM:-0500
TZOFFSETTO:-0600
TZNAME:Central Standard Time
END:STANDARD
END:VTIMEZONE
BEGIN:VEVENT
DTSTART;TZID=America/Chicago:20260506T113000
DTEND;TZID=America/Chicago:20260506T123000
X-MICROSOFT-CDO-ALLDAYEVENT:FALSE
SUMMARY:Lunch and Learn: Christine Ann
DESCRIPTION:No Simple Choice: A Scenario-Based Learning Experience. The event is free and a lunch is provided.
X-ALT-DESC;FMTTYPE=text/html:<!DOCTYPE html><html><head><title></title></head><body aria-disabled="false"><p><span style="color: rgba(0\,0\,0\,var(--O42jJQ\,1))\; caret-color: rgb(0\, 0\, 0)\; --Ys-XuQ: none\; font-weight: 400\; font-style: normal\; font-kerning: normal\;">No Simple Choice: A Scenario-Based Learning Experience.&nbsp\;</span>The event is free and a lunch is provided.&nbsp\;</p></body></html>
LOCATION:240 Algoma Blvd Oshkosh WI 54901
UID:e.3980.1439388
SEQUENCE:3
DTSTAMP:20260421T115711Z
URL:https://members.oshkoshchamber.com/chamber-eventcalendar/Details/lunch-and-learn-christine-ann-1703859?sourceTypeId=Hub
END:VEVENT
END:VCALENDAR
